BEGIN:VCALENDAR
VERSION:2.0
PRODID:-//ChamberMaster//Event Calendar 2.0//EN
METHOD:PUBLISH
X-PUBLISHED-TTL:P3D
REFRESH-INTERVAL:P3D
CALSCALE:GREGORIAN
BEGIN:VEVENT
DTSTART;VALUE=DATE:20080524
DTEND;VALUE=DATE:20080525
TRANSP:TRANSPARENT
X-MICROSOFT-CDO-ALLDAYEVENT:TRUE
SUMMARY:River of Praise Junior High Youth Garage Sale
DESCRIPTION:We will be raising money for the Junior high to go to Camp this year. We have raised some funds but are still needing to add to the money so we can have a great time and these kids are blessed!! IF you would like to come and check out the great buys or even sponsor a child to go to Camp ($90) please call Anna @ 281-844-6160
X-ALT-DESC;FMTTYPE=text/html:<div>We will be raising money for the Junior high to go to Camp this year. We have raised some funds but are still needing to add to the money so we can have a great time and these kids are blessed!! IF you would like to come and check out the great buys or even sponsor a child to go to Camp ($90) please call Anna @ 281-844-6160</div>
LOCATION:249/Boudreux. River of Praise Church Tomball
UID:e.155.2510
SEQUENCE:3
DTSTAMP:20260421T131135Z
URL:https://business.tomballchamber.org/events/details/river-of-praise-junior-high-youth-garage-sale-05-24-2008-2510
END:VEVENT

END:VCALENDAR
