BEGIN:VCALENDAR
VERSION:2.0
PRODID:-//ChamberMaster//Event Calendar 2.0//EN
METHOD:PUBLISH
X-PUBLISHED-TTL:P3D
REFRESH-INTERVAL:P3D
CALSCALE:GREGORIAN
BEGIN:VEVENT
DTSTART:20070926T193000Z
DTEND:20070926T200000Z
X-MICROSOFT-CDO-ALLDAYEVENT:FALSE
SUMMARY:Ribbon Cutting - Vision Pro
DESCRIPTION:Ribbon Cutting - VIsion ProDr. Paul Proske
X-ALT-DESC;FMTTYPE=text/html:<div>Ribbon Cutting - VIsion Pro</div><div>Dr. Paul Proske</div>
LOCATION:20920 Kuykendahl\, Suite CSpring\, Texas281.353.EYES Going East on FM 2920\, turn right on Kuykendahl1/4 mile on the left hand side between Auto Zone and Lil Ceasars
UID:e.155.2318
SEQUENCE:3
DTSTAMP:20260422T025708Z
URL:https://business.tomballchamber.org/events/details/ribbon-cutting-vision-pro-09-26-2007-2318
END:VEVENT

END:VCALENDAR
