BEGIN:VCALENDAR
VERSION:2.0
PRODID:-//ChamberMaster//Event Calendar 2.0//EN
METHOD:PUBLISH
X-PUBLISHED-TTL:P3D
REFRESH-INTERVAL:P3D
CALSCALE:GREGORIAN
BEGIN:VEVENT
DTSTART:20071017T193000Z
DTEND:20071017T200000Z
X-MICROSOFT-CDO-ALLDAYEVENT:FALSE
SUMMARY:Ribbon Cutting - Tomball Beauty College
DESCRIPTION:Ribbon Cutting CeremonyTomball Beauty College
X-ALT-DESC;FMTTYPE=text/html:<p>Ribbon Cutting Ceremony</p><p>Tomball Beauty College</p>
LOCATION:1231 Alma StreetTomball\, Texas
UID:e.155.2217
SEQUENCE:3
DTSTAMP:20260422T011717Z
URL:https://business.tomballchamber.org/events/details/ribbon-cutting-tomball-beauty-college-10-17-2007-2217
END:VEVENT

END:VCALENDAR
