BEGIN:VCALENDAR
VERSION:2.0
PRODID:-//ChamberMaster//Event Calendar 2.0//EN
METHOD:PUBLISH
X-PUBLISHED-TTL:P3D
REFRESH-INTERVAL:P3D
CALSCALE:GREGORIAN
BEGIN:VEVENT
DTSTART:20070927T150000Z
DTEND:20070927T153000Z
X-MICROSOFT-CDO-ALLDAYEVENT:FALSE
SUMMARY:Ribbon Cutting - The Cucumber Garden
DESCRIPTION:Ribbon CuttingThe Cucumber Garden
X-ALT-DESC;FMTTYPE=text/html:<div>Ribbon Cutting</div><div>The Cucumber Garden</div>
LOCATION:Ribbon CuttingThe Cucumber Garden14051 FM 2920 ( Old Kroger Shooping Center)
UID:e.155.2334
SEQUENCE:3
DTSTAMP:20260422T030254Z
URL:https://business.tomballchamber.org/events/details/ribbon-cutting-the-cucumber-garden-09-27-2007-2334
END:VEVENT

END:VCALENDAR
