BEGIN:VCALENDAR
VERSION:2.0
PRODID:-//ChamberMaster//Event Calendar 2.0//EN
METHOD:PUBLISH
X-PUBLISHED-TTL:P3D
REFRESH-INTERVAL:P3D
CALSCALE:GREGORIAN
BEGIN:VEVENT
DTSTART:20070808T153000Z
DTEND:20070808T160000Z
X-MICROSOFT-CDO-ALLDAYEVENT:FALSE
SUMMARY:Ribbon Cutting - Showboat Drive In
DESCRIPTION:Ribbon Cutting Ceremony - Public WelcomeShowboat Drive In
X-ALT-DESC;FMTTYPE=text/html:<div>Ribbon Cutting Ceremony - Public Welcome</div><div>Showboat Drive In</div>
LOCATION:FM 2920 - Hockley TexasShowboat Drive In
UID:e.155.2286
SEQUENCE:3
DTSTAMP:20260422T045356Z
URL:https://business.tomballchamber.org/events/details/ribbon-cutting-showboat-drive-in-08-08-2007-2286
END:VEVENT

END:VCALENDAR
