BEGIN:VCALENDAR
VERSION:2.0
PRODID:-//ChamberMaster//Event Calendar 2.0//EN
METHOD:PUBLISH
X-PUBLISHED-TTL:P3D
REFRESH-INTERVAL:P3D
CALSCALE:GREGORIAN
BEGIN:VEVENT
DTSTART:20080417T223000Z
DTEND:20080417T233000Z
X-MICROSOFT-CDO-ALLDAYEVENT:FALSE
SUMMARY:RIbbon Cutting - Shield Bearer Counceling Center
DESCRIPTION:RIbbon Cutting - Shield Bearer Counseling Center12345 Jones Road\, Suite 285
X-ALT-DESC;FMTTYPE=text/html:<div>&nbsp\;RIbbon Cutting - Shield Bearer Counseling Center</div><div>12345 Jones Road\, Suite 285</div><div>&nbsp\;</div>
LOCATION:
UID:e.155.2467
SEQUENCE:3
DTSTAMP:20260421T151159Z
URL:https://business.tomballchamber.org/events/details/ribbon-cutting-shield-bearer-counceling-center-04-17-2008-2467
END:VEVENT

END:VCALENDAR
