BEGIN:VCALENDAR
VERSION:2.0
PRODID:-//ChamberMaster//Event Calendar 2.0//EN
METHOD:PUBLISH
X-PUBLISHED-TTL:P3D
REFRESH-INTERVAL:P3D
CALSCALE:GREGORIAN
BEGIN:VEVENT
DTSTART:20211105T180000Z
DTEND:20211105T183000Z
X-MICROSOFT-CDO-ALLDAYEVENT:FALSE
SUMMARY:Ribbon Cutting - Seniors Helping Seniors Tomball
DESCRIPTION:Join us immediately following our First Friday Luncheon to help welcome Jason and Camille Blevins to the GTACC Family!\n\n\n\nThey own Seniors Helping Seniors Tomball and we love having new members with a heart for helping others.
X-ALT-DESC;FMTTYPE=text/html:Join us immediately following our First Friday Luncheon to help welcome Jason and Camille Blevins to the GTACC Family!<br />\n<br />\nThey own Seniors Helping Seniors Tomball and we love having new members with a heart for helping others.&nbsp\;
LOCATION:Tomball Event Center 20235 Cypress Rosehill Rd. Tomball\, TX 77377
UID:e.155.35051
SEQUENCE:3
DTSTAMP:20260422T160710Z
URL:https://business.tomballchamber.org/events/details/ribbon-cutting-seniors-helping-seniors-tomball-35051
END:VEVENT

END:VCALENDAR
