BEGIN:VCALENDAR
VERSION:2.0
PRODID:-//ChamberMaster//Event Calendar 2.0//EN
METHOD:PUBLISH
X-PUBLISHED-TTL:P3D
REFRESH-INTERVAL:P3D
CALSCALE:GREGORIAN
BEGIN:VEVENT
DTSTART:20070306T040000Z
DTEND:20070306T043000Z
X-MICROSOFT-CDO-ALLDAYEVENT:FALSE
SUMMARY:Ribbon Cutting - Red Robin Gourmet Burgers
DESCRIPTION:Ribbon Cutting - Red Robin Gourmet Burgers
X-ALT-DESC;FMTTYPE=text/html:Ribbon Cutting - Red Robin Gourmet Burgers
LOCATION:Tomball Parkway - Next to Lupe Tortillas and Fred Haas Toyota Country
UID:e.155.1378
SEQUENCE:3
DTSTAMP:20260422T135717Z
URL:https://business.tomballchamber.org/events/details/ribbon-cutting-red-robin-gourmet-burgers-03-05-2007-1378
END:VEVENT

END:VCALENDAR
