BEGIN:VCALENDAR
VERSION:2.0
PRODID:-//ChamberMaster//Event Calendar 2.0//EN
METHOD:PUBLISH
X-PUBLISHED-TTL:P3D
REFRESH-INTERVAL:P3D
CALSCALE:GREGORIAN
BEGIN:VEVENT
DTSTART:20230223T200000Z
DTEND:20230223T210000Z
X-MICROSOFT-CDO-ALLDAYEVENT:FALSE
SUMMARY:Ribbon Cutting - RE/MAX Integrity
DESCRIPTION:Join in welcoming RE/MAX Integrity to the Chamber Family!
X-ALT-DESC;FMTTYPE=text/html:Join in welcoming RE/MAX Integrity to the Chamber Family!
LOCATION:23309 Kuykendahl Rd. Tomball\, TX 77375
UID:e.155.37847
SEQUENCE:3
DTSTAMP:20260420T132751Z
URL:https://business.tomballchamber.org/events/details/ribbon-cutting-re-max-integrity-37847
END:VEVENT

END:VCALENDAR
