BEGIN:VCALENDAR
VERSION:2.0
PRODID:-//ChamberMaster//Event Calendar 2.0//EN
METHOD:PUBLISH
X-PUBLISHED-TTL:P3D
REFRESH-INTERVAL:P3D
CALSCALE:GREGORIAN
BEGIN:VEVENT
DTSTART:20080313T210000Z
DTEND:20080314T000000Z
X-MICROSOFT-CDO-ALLDAYEVENT:FALSE
SUMMARY:Ribbon Cutting - Open House for Park Manor - Tomball
DESCRIPTION:Ribbon Cutting - Open HousePark Manor - TomballRibbon Cutting Ceremony at 5:30 p.m.
X-ALT-DESC;FMTTYPE=text/html:<div>Ribbon Cutting - Open House</div><div>Park Manor - Tomball</div><div>Ribbon Cutting Ceremony at 5:30 p.m.</div>
LOCATION:Park Manor - Tomball250 School Street - Tomball
UID:e.155.2428
SEQUENCE:3
DTSTAMP:20260421T165325Z
URL:https://business.tomballchamber.org/events/details/ribbon-cutting-open-house-for-park-manor-tomball-03-13-2008-2428
END:VEVENT

END:VCALENDAR
