BEGIN:VCALENDAR
VERSION:2.0
PRODID:-//ChamberMaster//Event Calendar 2.0//EN
METHOD:PUBLISH
X-PUBLISHED-TTL:P3D
REFRESH-INTERVAL:P3D
CALSCALE:GREGORIAN
BEGIN:VEVENT
DTSTART:20071128T233000Z
DTEND:20071129T003000Z
X-MICROSOFT-CDO-ALLDAYEVENT:FALSE
SUMMARY:Ribbon Cutting / Open House
DESCRIPTION:Ribbon Cutting / Open HousePesquera's Ocean Grill & Oyster Bar
X-ALT-DESC;FMTTYPE=text/html:<div>Ribbon Cutting / Open House</div><div>Pesquera's Ocean Grill &amp\; Oyster Bar</div><div>&nbsp\;</div>
LOCATION:34616 SH 249Pinehurst\, Texas 77362( The Boat restaurant)
UID:e.155.2364
SEQUENCE:3
DTSTAMP:20260421T233319Z
URL:https://business.tomballchamber.org/events/details/ribbon-cutting-open-house-11-28-2007-2364
END:VEVENT

END:VCALENDAR
