BEGIN:VCALENDAR
VERSION:2.0
PRODID:-//ChamberMaster//Event Calendar 2.0//EN
METHOD:PUBLISH
X-PUBLISHED-TTL:P3D
REFRESH-INTERVAL:P3D
CALSCALE:GREGORIAN
BEGIN:VEVENT
DTSTART:20080403T190000Z
DTEND:20080403T193000Z
X-MICROSOFT-CDO-ALLDAYEVENT:FALSE
SUMMARY:Ribbon Cutting - Office Depot
DESCRIPTION:Ribbon Cutting CeremonyOffice Depot
X-ALT-DESC;FMTTYPE=text/html:<div>Ribbon Cutting Ceremony</div><div>Office Depot</div>
LOCATION:Office DepotFM 2920( next to Target and PetSmart)
UID:e.155.2435
SEQUENCE:3
DTSTAMP:20260421T164402Z
URL:https://business.tomballchamber.org/events/details/ribbon-cutting-office-depot-04-03-2008-2435
END:VEVENT

END:VCALENDAR
