BEGIN:VCALENDAR
VERSION:2.0
PRODID:-//ChamberMaster//Event Calendar 2.0//EN
METHOD:PUBLISH
X-PUBLISHED-TTL:P3D
REFRESH-INTERVAL:P3D
CALSCALE:GREGORIAN
BEGIN:VEVENT
DTSTART:20080926T160000Z
DTEND:20080926T170000Z
X-MICROSOFT-CDO-ALLDAYEVENT:FALSE
SUMMARY:Ribbon Cutting @ MICO Group Limited
DESCRIPTION:
X-ALT-DESC;FMTTYPE=text/html:
LOCATION:1028 Lizzie Lane Tomball\, TX 77375
UID:e.155.2605
SEQUENCE:3
DTSTAMP:20260421T084038Z
URL:https://business.tomballchamber.org/events/details/ribbon-cutting-mico-group-limited-09-26-2008-2605
END:VEVENT

END:VCALENDAR
