BEGIN:VCALENDAR
VERSION:2.0
PRODID:-//ChamberMaster//Event Calendar 2.0//EN
METHOD:PUBLISH
X-PUBLISHED-TTL:P3D
REFRESH-INTERVAL:P3D
CALSCALE:GREGORIAN
BEGIN:VEVENT
DTSTART:20071108T190000Z
DTEND:20071108T193000Z
X-MICROSOFT-CDO-ALLDAYEVENT:FALSE
SUMMARY:Ribbon Cutting - Lenar Homes
DESCRIPTION:Ribbon CuttingLenar Homes
X-ALT-DESC;FMTTYPE=text/html:<div>Ribbon Cutting</div><div>Lenar Homes</div>
LOCATION:
UID:e.155.2357
SEQUENCE:3
DTSTAMP:20260421T233319Z
URL:https://business.tomballchamber.org/events/details/ribbon-cutting-lenar-homes-11-08-2007-2357
END:VEVENT

END:VCALENDAR
