BEGIN:VCALENDAR
VERSION:2.0
PRODID:-//ChamberMaster//Event Calendar 2.0//EN
METHOD:PUBLISH
X-PUBLISHED-TTL:P3D
REFRESH-INTERVAL:P3D
CALSCALE:GREGORIAN
BEGIN:VEVENT
DTSTART:20070801T033000Z
DTEND:20070801T043000Z
X-MICROSOFT-CDO-ALLDAYEVENT:FALSE
SUMMARY:Ribbon Cutting - Kwik Kopy Business Solutions
DESCRIPTION:Ribbon Cutting Ceremony for Kwik Kopy Business SolutionsSpecial Coffee Bar Available for refreshments
X-ALT-DESC;FMTTYPE=text/html:<div>Ribbon Cutting Ceremony for Kwik Kopy Business Solutions</div><div>Special Coffee Bar Available for refreshments</div>
LOCATION:1215 W. Main Street #5Tomball\, Texas 77375
UID:e.155.2284
SEQUENCE:3
DTSTAMP:20260422T061159Z
URL:https://business.tomballchamber.org/events/details/ribbon-cutting-kwik-kopy-business-solutions-07-31-2007-2284
END:VEVENT

END:VCALENDAR
