BEGIN:VCALENDAR
VERSION:2.0
PRODID:-//ChamberMaster//Event Calendar 2.0//EN
METHOD:PUBLISH
X-PUBLISHED-TTL:P3D
REFRESH-INTERVAL:P3D
CALSCALE:GREGORIAN
BEGIN:VEVENT
DTSTART:20080325T190000Z
DTEND:20080325T193000Z
X-MICROSOFT-CDO-ALLDAYEVENT:FALSE
SUMMARY:Ribbon Cutting - InvesTex Credit Union
DESCRIPTION:Ribbon Cutting CeremonyInvesTex Credit Union
X-ALT-DESC;FMTTYPE=text/html:<div>Ribbon Cutting Ceremony</div><div>InvesTex Credit Union</div>
LOCATION:InvesTex Credit Union24922 Tomball ParkwaySuite 100
UID:e.155.2432
SEQUENCE:3
DTSTAMP:20260421T165443Z
URL:https://business.tomballchamber.org/events/details/ribbon-cutting-investex-credit-union-03-25-2008-2432
END:VEVENT

END:VCALENDAR
