BEGIN:VCALENDAR
VERSION:2.0
PRODID:-//ChamberMaster//Event Calendar 2.0//EN
METHOD:PUBLISH
X-PUBLISHED-TTL:P3D
REFRESH-INTERVAL:P3D
CALSCALE:GREGORIAN
BEGIN:VEVENT
DTSTART:20071023T150000Z
DTEND:20071023T153000Z
X-MICROSOFT-CDO-ALLDAYEVENT:FALSE
SUMMARY:Ribbon Cutting - Infinity Fitness
DESCRIPTION:Ribbon Cutting CeremonyInfinity FItness\, Inc.100 Commerce Street
X-ALT-DESC;FMTTYPE=text/html:<div>Ribbon Cutting Ceremony</div><div>Infinity FItness\, Inc.</div><div>100 Commerce Street</div>
LOCATION:100 Commerce StreetTomball\, Texas281.370.1656
UID:e.155.2340
SEQUENCE:3
DTSTAMP:20260422T011625Z
URL:https://business.tomballchamber.org/events/details/ribbon-cutting-infinity-fitness-10-23-2007-2340
END:VEVENT

END:VCALENDAR
