BEGIN:VCALENDAR
VERSION:2.0
PRODID:-//ChamberMaster//Event Calendar 2.0//EN
METHOD:PUBLISH
X-PUBLISHED-TTL:P3D
REFRESH-INTERVAL:P3D
CALSCALE:GREGORIAN
BEGIN:VEVENT
DTSTART:20220929T160000Z
DTEND:20220929T170000Z
X-MICROSOFT-CDO-ALLDAYEVENT:FALSE
SUMMARY:Ribbon Cutting: Graze
DESCRIPTION:Join us to celebrate Graze! Eat\, Drink and Gather for a Ribbon Cutting Ceremony with Tatia\, Doug and the Graze crew!
X-ALT-DESC;FMTTYPE=text/html:Join us to celebrate Graze! Eat\, Drink and Gather for a Ribbon Cutting Ceremony with Tatia\, Doug and the Graze crew!
LOCATION:208 N. Elm St. Tomball\, TX 77375
UID:e.155.37185
SEQUENCE:3
DTSTAMP:20260421T010436Z
URL:https://business.tomballchamber.org/events/details/ribbon-cutting-graze-37185
END:VEVENT

END:VCALENDAR
