BEGIN:VCALENDAR
VERSION:2.0
PRODID:-//ChamberMaster//Event Calendar 2.0//EN
METHOD:PUBLISH
X-PUBLISHED-TTL:P3D
REFRESH-INTERVAL:P3D
CALSCALE:GREGORIAN
BEGIN:VEVENT
DTSTART:20071214T030000Z
DTEND:20071214T040000Z
X-MICROSOFT-CDO-ALLDAYEVENT:FALSE
SUMMARY:Ribbon Cutting - Grand Opening Chick Fil A
DESCRIPTION:Grand Opening / RIbbon Cutting Chick Fil A  Restaurant5905 FM 2920Spring\, Texas Kuykendahl @ FM 2920
X-ALT-DESC;FMTTYPE=text/html:<div>Grand Opening / RIbbon Cutting</div><div>&nbsp\;Chick Fil A&nbsp\; Restaurant</div><div>5905 FM 2920</div><div>Spring\, Texas</div><div>&nbsp\;</div><div>Kuykendahl @ FM 2920</div>
LOCATION:5905 FM 2920 Go East on FM 2920 past KuykendahlLook to your right in shopping centerNew - Chick Fil A Restaurant !
UID:e.155.2366
SEQUENCE:3
DTSTAMP:20260421T214634Z
URL:https://business.tomballchamber.org/events/details/ribbon-cutting-grand-opening-chick-fil-a-12-13-2007-2366
END:VEVENT

END:VCALENDAR
