BEGIN:VCALENDAR
VERSION:2.0
PRODID:-//ChamberMaster//Event Calendar 2.0//EN
METHOD:PUBLISH
X-PUBLISHED-TTL:P3D
REFRESH-INTERVAL:P3D
CALSCALE:GREGORIAN
BEGIN:VEVENT
DTSTART:20071012T150000Z
DTEND:20071012T153000Z
X-MICROSOFT-CDO-ALLDAYEVENT:FALSE
SUMMARY:RIbbon Cutting - Fountain of Youth Salon & Day Spa
DESCRIPTION:Ribbon Cutting CeremonyFountain of Youth Salon Day Spa28111 Vallie Street ( @ SH 249)Pinehurst\, Texas281.351.1566
X-ALT-DESC;FMTTYPE=text/html:<div>Ribbon Cutting Ceremony</div><div>Fountain of Youth Salon Day Spa</div><div>28111 Vallie Street ( @ SH 249)</div><div>Pinehurst\, Texas</div><div>281.351.1566</div><div>&nbsp\;</div>
LOCATION:
UID:e.155.2338
SEQUENCE:3
DTSTAMP:20260422T011947Z
URL:https://business.tomballchamber.org/events/details/ribbon-cutting-fountain-of-youth-salon-day-spa-10-12-2007-2338
END:VEVENT

END:VCALENDAR
