BEGIN:VCALENDAR
VERSION:2.0
PRODID:-//ChamberMaster//Event Calendar 2.0//EN
METHOD:PUBLISH
X-PUBLISHED-TTL:P3D
REFRESH-INTERVAL:P3D
CALSCALE:GREGORIAN
BEGIN:VEVENT
DTSTART:20080528T030000Z
DTEND:20080528T040000Z
X-MICROSOFT-CDO-ALLDAYEVENT:FALSE
SUMMARY:Ribbon Cutting for Tomball Community Garden
DESCRIPTION:Ribbon Cutting Ceremony for Tomball Community Gardenat Southwinds Baptist Church
X-ALT-DESC;FMTTYPE=text/html:<div>Ribbon Cutting Ceremony for Tomball Community Garden</div><div>at Southwinds Baptist Church</div>
LOCATION:
UID:e.155.2517
SEQUENCE:3
DTSTAMP:20260421T150155Z
URL:https://business.tomballchamber.org/events/details/ribbon-cutting-for-tomball-community-garden-05-27-2008-2517
END:VEVENT

END:VCALENDAR
