BEGIN:VCALENDAR
VERSION:2.0
PRODID:-//ChamberMaster//Event Calendar 2.0//EN
METHOD:PUBLISH
X-PUBLISHED-TTL:P3D
REFRESH-INTERVAL:P3D
CALSCALE:GREGORIAN
BEGIN:VEVENT
DTSTART:20070425T183000Z
DTEND:20070425T190000Z
X-MICROSOFT-CDO-ALLDAYEVENT:FALSE
SUMMARY:Ribbon Cutting for Rapid Ink Refill
DESCRIPTION:Ribbon Cutting for Rapid Ink Refill
X-ALT-DESC;FMTTYPE=text/html:Ribbon Cutting for Rapid Ink Refill
LOCATION:21322 Kuykendahl\, Suite D Spring\, Texas 77379
UID:e.155.1940
SEQUENCE:3
DTSTAMP:20260422T104551Z
URL:https://business.tomballchamber.org/events/details/ribbon-cutting-for-rapid-ink-refill-04-25-2007-1940
END:VEVENT

END:VCALENDAR
