BEGIN:VCALENDAR
VERSION:2.0
PRODID:-//ChamberMaster//Event Calendar 2.0//EN
METHOD:PUBLISH
X-PUBLISHED-TTL:P3D
REFRESH-INTERVAL:P3D
CALSCALE:GREGORIAN
BEGIN:VEVENT
DTSTART:20070209T160000Z
DTEND:20070209T163000Z
X-MICROSOFT-CDO-ALLDAYEVENT:FALSE
SUMMARY:Ribbon Cutting For Inwood Crossing
DESCRIPTION:
X-ALT-DESC;FMTTYPE=text/html:
LOCATION:Corner of Baker Dr. and Inwood
UID:e.155.282
SEQUENCE:3
DTSTAMP:20260422T135540Z
URL:https://business.tomballchamber.org/events/details/ribbon-cutting-for-inwood-crossing-02-09-2007-282
END:VEVENT

END:VCALENDAR
