BEGIN:VCALENDAR
VERSION:2.0
PRODID:-//ChamberMaster//Event Calendar 2.0//EN
METHOD:PUBLISH
X-PUBLISHED-TTL:P3D
REFRESH-INTERVAL:P3D
CALSCALE:GREGORIAN
BEGIN:VEVENT
DTSTART:20080617T170000Z
DTEND:20080617T173000Z
X-MICROSOFT-CDO-ALLDAYEVENT:FALSE
SUMMARY:Ribbon Cutting for Dr. Maria Jordan\, MD
DESCRIPTION:
X-ALT-DESC;FMTTYPE=text/html:
LOCATION:27920 Tomball Parkway\, Ste. 210
UID:e.155.2538
SEQUENCE:3
DTSTAMP:20260421T111035Z
URL:https://business.tomballchamber.org/events/details/ribbon-cutting-for-dr-maria-jordan-md-06-17-2008-2538
END:VEVENT

END:VCALENDAR
