BEGIN:VCALENDAR
VERSION:2.0
PRODID:-//ChamberMaster//Event Calendar 2.0//EN
METHOD:PUBLISH
X-PUBLISHED-TTL:P3D
REFRESH-INTERVAL:P3D
CALSCALE:GREGORIAN
BEGIN:VEVENT
DTSTART:20080619T203000Z
DTEND:20080619T210000Z
X-MICROSOFT-CDO-ALLDAYEVENT:FALSE
SUMMARY:Ribbon Cutting for D R Horton America's Builder
DESCRIPTION:
X-ALT-DESC;FMTTYPE=text/html:
LOCATION:Northpointe Villages
UID:e.155.2536
SEQUENCE:3
DTSTAMP:20260421T130530Z
URL:https://business.tomballchamber.org/events/details/ribbon-cutting-for-d-r-horton-america-s-builder-06-19-2008-2536
END:VEVENT

END:VCALENDAR
