BEGIN:VCALENDAR
VERSION:2.0
PRODID:-//ChamberMaster//Event Calendar 2.0//EN
METHOD:PUBLISH
X-PUBLISHED-TTL:P3D
REFRESH-INTERVAL:P3D
CALSCALE:GREGORIAN
BEGIN:VEVENT
DTSTART:20070621T190000Z
DTEND:20070621T200000Z
X-MICROSOFT-CDO-ALLDAYEVENT:FALSE
SUMMARY:Ribbon Cutting for Butterfly Life
DESCRIPTION:Ribbon Cutting Event for New Member\nButterfly Life
X-ALT-DESC;FMTTYPE=text/html:Ribbon Cutting Event for New Member<br />Butterfly Life
LOCATION:FM 2920 / SH 249 New Kroger Shopping Center
UID:e.155.2251
SEQUENCE:3
DTSTAMP:20260422T091609Z
URL:https://business.tomballchamber.org/events/details/ribbon-cutting-for-butterfly-life-06-21-2007-2251
END:VEVENT

END:VCALENDAR
