BEGIN:VCALENDAR
VERSION:2.0
PRODID:-//ChamberMaster//Event Calendar 2.0//EN
METHOD:PUBLISH
X-PUBLISHED-TTL:P3D
REFRESH-INTERVAL:P3D
CALSCALE:GREGORIAN
BEGIN:VEVENT
DTSTART:20070302T053000Z
DTEND:20070302T053000Z
X-MICROSOFT-CDO-ALLDAYEVENT:FALSE
SUMMARY:Ribbon Cutting - First Community Credit Union
DESCRIPTION:Ribbon Cutting for First Community Credit Union
X-ALT-DESC;FMTTYPE=text/html:Ribbon Cutting for First Community Credit Union
LOCATION:Tomball Parkway - Next to Rib Tickler
UID:e.155.1377
SEQUENCE:3
DTSTAMP:20260422T122528Z
URL:https://business.tomballchamber.org/events/details/ribbon-cutting-first-community-credit-union-03-01-2007-1377
END:VEVENT

END:VCALENDAR
