BEGIN:VCALENDAR
VERSION:2.0
PRODID:-//ChamberMaster//Event Calendar 2.0//EN
METHOD:PUBLISH
X-PUBLISHED-TTL:P3D
REFRESH-INTERVAL:P3D
CALSCALE:GREGORIAN
BEGIN:VEVENT
DTSTART:20080314T160000Z
DTEND:20080314T174500Z
X-MICROSOFT-CDO-ALLDAYEVENT:FALSE
SUMMARY:Ribbon Cutting - Firestone Complete Auto Care
DESCRIPTION:Ribbon Cutting - Firestone Complete Auto Care
X-ALT-DESC;FMTTYPE=text/html:<div>Ribbon Cutting - Firestone Complete Auto Care</div>
LOCATION:27900 Tomball ParkwayTomball\, Texas( next to Taste of Asia)
UID:e.155.2429
SEQUENCE:3
DTSTAMP:20260421T182755Z
URL:https://business.tomballchamber.org/events/details/ribbon-cutting-firestone-complete-auto-care-03-14-2008-2429
END:VEVENT

END:VCALENDAR
