BEGIN:VCALENDAR
VERSION:2.0
PRODID:-//ChamberMaster//Event Calendar 2.0//EN
METHOD:PUBLISH
X-PUBLISHED-TTL:P3D
REFRESH-INTERVAL:P3D
CALSCALE:GREGORIAN
BEGIN:VEVENT
DTSTART:20080215T054500Z
DTEND:20080214T183000Z
X-MICROSOFT-CDO-ALLDAYEVENT:FALSE
SUMMARY:Ribbon Cutting - Firestone Complete Auto Care
DESCRIPTION:Ribbon Cutting CeremonyFirestone Complete Auto Care
X-ALT-DESC;FMTTYPE=text/html:<p>Ribbon Cutting Ceremony</p><p>Firestone Complete Auto Care</p>
LOCATION:27900 Tomball ParkwayTomball\, Texas 77375
UID:e.155.2408
SEQUENCE:3
DTSTAMP:20260421T182653Z
URL:https://business.tomballchamber.org/events/details/ribbon-cutting-firestone-complete-auto-care-02-14-2008-2408
END:VEVENT

END:VCALENDAR
