BEGIN:VCALENDAR
VERSION:2.0
PRODID:-//ChamberMaster//Event Calendar 2.0//EN
METHOD:PUBLISH
X-PUBLISHED-TTL:P3D
REFRESH-INTERVAL:P3D
CALSCALE:GREGORIAN
BEGIN:VEVENT
DTSTART:20080408T140000Z
DTEND:20080408T143000Z
X-MICROSOFT-CDO-ALLDAYEVENT:FALSE
SUMMARY:Ribbon Cutting - Exit Realty Group
DESCRIPTION:Ribbon Cutting CeremonyExit Realty Group
X-ALT-DESC;FMTTYPE=text/html:<div>Ribbon Cutting Ceremony</div><div>Exit Realty Group</div>
LOCATION:Exit Realty Group940 West Main Street
UID:e.155.2436
SEQUENCE:3
DTSTAMP:20260421T163808Z
URL:https://business.tomballchamber.org/events/details/ribbon-cutting-exit-realty-group-04-08-2008-2436
END:VEVENT

END:VCALENDAR
