BEGIN:VCALENDAR
VERSION:2.0
PRODID:-//ChamberMaster//Event Calendar 2.0//EN
METHOD:PUBLISH
X-PUBLISHED-TTL:P3D
REFRESH-INTERVAL:P3D
CALSCALE:GREGORIAN
BEGIN:VEVENT
DTSTART:20070830T223000Z
DTEND:20070831T003000Z
X-MICROSOFT-CDO-ALLDAYEVENT:FALSE
SUMMARY:Ribbon Cutting - Emergency Health Centre at Willowbrook
DESCRIPTION:Please join the owners and staff of  Emergency Health Centre at Willowbrook as we celebrate our Ribbon Cutting and Grand Opening.\n\nThursday\, August 30\, 2007\n5:30 PM\n22475 Tomball Parkway\n(Between Louetta and Spring-Cypress Road)\n\nMichael Garfield\, The High-Tech Texan\, will emcee the ceremony.\n\nAfter the Ribbon Cutting\, please join us for a reception and tour of our new centre.\n\nRSVP: Andrea Reck at 1.888.ER.911.ER or AReck@TheEHC.com.\nAttire Business Casual
X-ALT-DESC;FMTTYPE=text/html:Please join the owners and staff of  Emergency Health Centre at Willowbrook as we celebrate our Ribbon Cutting and Grand Opening.\n\nThursday\, August 30\, 2007\n5:30 PM\n22475 Tomball Parkway\n(Between Louetta and Spring-Cypress Road)\n\nMichael Garfield\, The High-Tech Texan\, will emcee the ceremony.\n\nAfter the Ribbon Cutting\, please join us for a reception and tour of our new centre.\n\nRSVP: Andrea Reck at 1.888.ER.911.ER or AReck@TheEHC.com.\nAttire Business Casual
LOCATION:22475 Tomball Parkway Houston\, Texas 77070
UID:e.155.2310
SEQUENCE:3
DTSTAMP:20260422T045403Z
URL:https://business.tomballchamber.org/events/details/ribbon-cutting-emergency-health-centre-at-willowbrook-08-30-2007-2310
END:VEVENT

END:VCALENDAR
