BEGIN:VCALENDAR
VERSION:2.0
PRODID:-//ChamberMaster//Event Calendar 2.0//EN
METHOD:PUBLISH
X-PUBLISHED-TTL:P3D
REFRESH-INTERVAL:P3D
CALSCALE:GREGORIAN
BEGIN:VEVENT
DTSTART:20070925T163000Z
DTEND:20070925T173000Z
X-MICROSOFT-CDO-ALLDAYEVENT:FALSE
SUMMARY:Ribbon Cutting - Edenbrook @ Champions
DESCRIPTION:Ribbon Cutting Ceremony AtEdenbrook @ Champions
X-ALT-DESC;FMTTYPE=text/html:<div>Ribbon Cutting Ceremony At</div><div>Edenbrook @ Champions</div>
LOCATION:Ribbon Cutting Ceremony AtEdenbrook @ Champions
UID:e.155.2322
SEQUENCE:3
DTSTAMP:20260422T030005Z
URL:https://business.tomballchamber.org/events/details/ribbon-cutting-edenbrook-champions-09-25-2007-2322
END:VEVENT

END:VCALENDAR
