BEGIN:VCALENDAR
VERSION:2.0
PRODID:-//ChamberMaster//Event Calendar 2.0//EN
METHOD:PUBLISH
X-PUBLISHED-TTL:P3D
REFRESH-INTERVAL:P3D
CALSCALE:GREGORIAN
BEGIN:VEVENT
DTSTART:20080312T183000Z
DTEND:20080312T190000Z
X-MICROSOFT-CDO-ALLDAYEVENT:FALSE
SUMMARY:Ribbon Cutting - Cricket - Superior Wireless Concepts
DESCRIPTION:Ribbon Cutting CeremonyCricket / Superior Wireless Concepts
X-ALT-DESC;FMTTYPE=text/html:<div>Ribbon Cutting Ceremony</div><div>Cricket / Superior Wireless Concepts</div>
LOCATION:30512 Tomball ParkwayTomball\, Texas(HEB Shopping Center Lot)
UID:e.155.2427
SEQUENCE:3
DTSTAMP:20260421T165112Z
URL:https://business.tomballchamber.org/events/details/ribbon-cutting-cricket-superior-wireless-concepts-03-12-2008-2427
END:VEVENT

END:VCALENDAR
