BEGIN:VCALENDAR
VERSION:2.0
PRODID:-//ChamberMaster//Event Calendar 2.0//EN
METHOD:PUBLISH
X-PUBLISHED-TTL:P3D
REFRESH-INTERVAL:P3D
CALSCALE:GREGORIAN
BEGIN:VEVENT
DTSTART:20080317T190000Z
DTEND:20080317T210000Z
X-MICROSOFT-CDO-ALLDAYEVENT:FALSE
SUMMARY:Ribbon Cutting - Cameo Caregivers
DESCRIPTION:Ribbon Cutting CeremonyCameo Caregivers
X-ALT-DESC;FMTTYPE=text/html:<div>Ribbon Cutting Ceremony</div><div>Cameo Caregivers</div>
LOCATION:Cameo Caregivers110 Cypress Station\, Suite 108Houston\, Texas 77090
UID:e.155.2430
SEQUENCE:3
DTSTAMP:20260421T183052Z
URL:https://business.tomballchamber.org/events/details/ribbon-cutting-cameo-caregivers-03-17-2008-2430
END:VEVENT

END:VCALENDAR
