BEGIN:VCALENDAR
VERSION:2.0
PRODID:-//ChamberMaster//Event Calendar 2.0//EN
METHOD:PUBLISH
X-PUBLISHED-TTL:P3D
REFRESH-INTERVAL:P3D
CALSCALE:GREGORIAN
BEGIN:VEVENT
DTSTART:20080502T180000Z
DTEND:20080502T183000Z
X-MICROSOFT-CDO-ALLDAYEVENT:FALSE
SUMMARY:Ribbon Cutting - Bytes of Life
DESCRIPTION:Ribbon Cutting Ceremony for Bytes of Lifeat First Friday Luncheon in MAY
X-ALT-DESC;FMTTYPE=text/html:<div>Ribbon Cutting Ceremony for Bytes of Life</div><div>at First Friday Luncheon in MAY</div>
LOCATION:Ribbon Cutting will be at the First Friday Luncheon in MayPlease stay after the luncheon for the ribbon cutting ceremonyimmediately following - meet up front at the podium If you would like to visit Bytes of Life - here is their address110 Vision Park Blvd\, Suite 102Shenandoah\, Texas832.813.0399
UID:e.155.2465
SEQUENCE:3
DTSTAMP:20260421T145652Z
URL:https://business.tomballchamber.org/events/details/ribbon-cutting-bytes-of-life-05-02-2008-2465
END:VEVENT

END:VCALENDAR
