BEGIN:VCALENDAR
VERSION:2.0
PRODID:-//ChamberMaster//Event Calendar 2.0//EN
METHOD:PUBLISH
X-PUBLISHED-TTL:P3D
REFRESH-INTERVAL:P3D
CALSCALE:GREGORIAN
BEGIN:VEVENT
DTSTART:20070309T060000Z
DTEND:20070309T190000Z
X-MICROSOFT-CDO-ALLDAYEVENT:FALSE
SUMMARY:Ribbon Cutting - Budget Rent-A-Car & Truck
DESCRIPTION:Ribbon Cutting - Budget Rent A Car & Truck
X-ALT-DESC;FMTTYPE=text/html:Ribbon Cutting - Budget Rent A Car &amp\; Truck
LOCATION:29010 Tomball Parkway
UID:e.155.1380
SEQUENCE:3
DTSTAMP:20260422T122915Z
URL:https://business.tomballchamber.org/events/details/ribbon-cutting-budget-rent-a-car-truck-03-09-2007-1380
END:VEVENT

END:VCALENDAR
