BEGIN:VCALENDAR
VERSION:2.0
PRODID:-//ChamberMaster//Event Calendar 2.0//EN
METHOD:PUBLISH
X-PUBLISHED-TTL:P3D
REFRESH-INTERVAL:P3D
CALSCALE:GREGORIAN
BEGIN:VEVENT
DTSTART:20070511T150000Z
DTEND:20070511T160000Z
X-MICROSOFT-CDO-ALLDAYEVENT:FALSE
SUMMARY:Ribbon Cutting - Anytime Fitness
DESCRIPTION:Ribbon Cutting Ceremony\nAnytime Fitness13730 Alice Rd
X-ALT-DESC;FMTTYPE=text/html:<p>Ribbon Cutting Ceremony<br />Anytime Fitness</p><p>13730 Alice Rd</p>
LOCATION:13730 Alice Road Tomball Texas ( Strip Center Behind Applebee's)
UID:e.155.2215
SEQUENCE:3
DTSTAMP:20260422T105123Z
URL:https://business.tomballchamber.org/events/details/ribbon-cutting-anytime-fitness-05-11-2007-2215
END:VEVENT

END:VCALENDAR
