BEGIN:VCALENDAR
VERSION:2.0
PRODID:-//ChamberMaster//Event Calendar 2.0//EN
METHOD:PUBLISH
X-PUBLISHED-TTL:P3D
REFRESH-INTERVAL:P3D
CALSCALE:GREGORIAN
BEGIN:VEVENT
DTSTART:20070918T190000Z
DTEND:20070918T193000Z
X-MICROSOFT-CDO-ALLDAYEVENT:FALSE
SUMMARY:RIbbon Cutting - Andy Tailor & Alterations
DESCRIPTION:Ribbon Cutting Ceremony forAndy Tailor & Alterations - New Location
X-ALT-DESC;FMTTYPE=text/html:<div>Ribbon Cutting Ceremony for</div><div>Andy Tailor &amp\; Alterations - New Location</div>
LOCATION:28105 Tomball Parkway ( Behind - Starbucks)
UID:e.155.2319
SEQUENCE:3
DTSTAMP:20260422T025814Z
URL:https://business.tomballchamber.org/events/details/ribbon-cutting-andy-tailor-alterations-09-18-2007-2319
END:VEVENT

END:VCALENDAR
