BEGIN:VCALENDAR
VERSION:2.0
PRODID:-//ChamberMaster//Event Calendar 2.0//EN
METHOD:PUBLISH
X-PUBLISHED-TTL:P3D
REFRESH-INTERVAL:P3D
CALSCALE:GREGORIAN
BEGIN:VEVENT
DTSTART;VALUE=DATE:20080418
DTEND;VALUE=DATE:20080420
TRANSP:TRANSPARENT
X-MICROSOFT-CDO-ALLDAYEVENT:TRUE
SUMMARY:Relay for Life Northwest Harris County
DESCRIPTION:This is an overnight event held by Northwest Harris County American Cancer Society.  It will be from 7:00 p.m. Friday Apr. 18th until 7:00 a.m. April 19th.  Each team will have a walker/runner on the track all night long.  The participants are asked to collect donations or sponsors and all proceeds go to the American Cancer Society.
X-ALT-DESC;FMTTYPE=text/html:This is an overnight event held by Northwest Harris County American Cancer Society.  It will be from 7:00 p.m. Friday Apr. 18th until 7:00 a.m. April 19th.  Each team will have a walker/runner on the track all night long.  The participants are asked to collect donations or sponsors and all proceeds go to the American Cancer Society.
LOCATION:Strack Intermediate School Kuykendahl @ Louetta
UID:e.155.2457
SEQUENCE:3
DTSTAMP:20260421T145807Z
URL:https://business.tomballchamber.org/events/details/relay-for-life-northwest-harris-county-04-18-2008-2457
END:VEVENT

END:VCALENDAR
