BEGIN:VCALENDAR
VERSION:2.0
PRODID:-//ChamberMaster//Event Calendar 2.0//EN
METHOD:PUBLISH
X-PUBLISHED-TTL:P3D
REFRESH-INTERVAL:P3D
CALSCALE:GREGORIAN
BEGIN:VEVENT
DTSTART:20080607T140000Z
DTEND:20080607T170000Z
X-MICROSOFT-CDO-ALLDAYEVENT:FALSE
SUMMARY:Recycle Day - City of Tomball
DESCRIPTION:Household Hazardous Waste - Recycle Day401 Market Street - in Heritage Park
X-ALT-DESC;FMTTYPE=text/html:<div>Household Hazardous Waste - Recycle Day</div><div>401 Market Street - in Heritage Park</div>
LOCATION:
UID:e.155.2520
SEQUENCE:3
DTSTAMP:20260421T111204Z
URL:https://business.tomballchamber.org/events/details/recycle-day-city-of-tomball-06-07-2008-2520
END:VEVENT

END:VCALENDAR
