BEGIN:VCALENDAR
VERSION:2.0
PRODID:-//ChamberMaster//Event Calendar 2.0//EN
METHOD:PUBLISH
X-PUBLISHED-TTL:P3D
REFRESH-INTERVAL:P3D
CALSCALE:GREGORIAN
BEGIN:VEVENT
DTSTART;VALUE=DATE:20070331
DTEND;VALUE=DATE:20070401
TRANSP:TRANSPARENT
X-MICROSOFT-CDO-ALLDAYEVENT:TRUE
SUMMARY:Reach SpringFest
DESCRIPTION:Reach Unlimited Learning Activity Center\nSchedule of Events\n9:00 Registration\n10:00 Walk A Thon\n10:30 Art Show\, SIlent Auction & Games\n11:30 Lunch\n12:00 Music\, Karaoke & Door Prizes\n1:00 Silent Auction Closes
X-ALT-DESC;FMTTYPE=text/html:Reach Unlimited Learning Activity Center<br />Schedule of Events<br />9:00 Registration<br />10:00 Walk A Thon<br />10:30 Art Show\, SIlent Auction &amp\; Games<br />11:30 Lunch<br />12:00 Music\, Karaoke &amp\; Door Prizes<br />1:00 Silent Auction Closes
LOCATION:11832 Mueller Cemetery Road
UID:e.155.1660
SEQUENCE:3
DTSTAMP:20260422T121530Z
URL:https://business.tomballchamber.org/events/details/reach-springfest-03-31-2007-1660
END:VEVENT

END:VCALENDAR
