BEGIN:VCALENDAR
VERSION:2.0
PRODID:-//ChamberMaster//Event Calendar 2.0//EN
METHOD:PUBLISH
X-PUBLISHED-TTL:P3D
REFRESH-INTERVAL:P3D
CALSCALE:GREGORIAN
BEGIN:VEVENT
DTSTART:20070309T020000Z
DTEND:20070309T030000Z
X-MICROSOFT-CDO-ALLDAYEVENT:FALSE
SUMMARY:President's Breakfast - New Member Reception
DESCRIPTION:New Member Breakfast for New Members
X-ALT-DESC;FMTTYPE=text/html:New Member Breakfast for New Members
LOCATION:Goodson's Cafe Tomball Parkway
UID:e.155.1379
SEQUENCE:3
DTSTAMP:20260422T122330Z
URL:https://business.tomballchamber.org/events/details/president-s-breakfast-new-member-reception-03-08-2007-1379
END:VEVENT

END:VCALENDAR
