BEGIN:VCALENDAR
VERSION:2.0
PRODID:-//ChamberMaster//Event Calendar 2.0//EN
METHOD:PUBLISH
X-PUBLISHED-TTL:P3D
REFRESH-INTERVAL:P3D
CALSCALE:GREGORIAN
BEGIN:VEVENT
DTSTART:20221015T160000Z
DTEND:20221015T190000Z
X-MICROSOFT-CDO-ALLDAYEVENT:FALSE
SUMMARY:Precinct3 Fall Fest
DESCRIPTION:Mark your calendar to join us for a day of fun in the park with FREE activities for all ages! Activities include a petting zoo\, crafts\, games\, face painting\, and much more.
X-ALT-DESC;FMTTYPE=text/html:Mark your calendar to join us for a day of fun in the park with FREE activities for all ages! Activities include a petting zoo\, crafts\, games\, face painting\, and much more.
LOCATION:Burroughs Park 9738 Huffsmith Tomball\, TX 77375
UID:e.155.37315
SEQUENCE:3
DTSTAMP:20260420T215711Z
URL:https://business.tomballchamber.org/events/details/precinct3-fall-fest-37315
END:VEVENT

END:VCALENDAR
