BEGIN:VCALENDAR
VERSION:2.0
PRODID:-//ChamberMaster//Event Calendar 2.0//EN
METHOD:PUBLISH
X-PUBLISHED-TTL:P3D
REFRESH-INTERVAL:P3D
CALSCALE:GREGORIAN
BEGIN:VEVENT
DTSTART:20080507T230000Z
DTEND:20080508T010000Z
X-MICROSOFT-CDO-ALLDAYEVENT:FALSE
SUMMARY:Pre-Party for Membership Drive
DESCRIPTION:Pre-Party for Membership DriveAnyone working as a volunteer for the Membership Drive isinvited to attend and find out any details for calling prospective members.A great way to kick-off our Membership Drive -Please RSVP with Frankie at 281.351.7222
X-ALT-DESC;FMTTYPE=text/html:<div>Pre-Party for Membership Drive</div><div>Anyone working as a volunteer for the Membership Drive is</div><div>invited to attend and find out any details for calling prospective members.</div><div>A great way to kick-off our Membership Drive -</div><div>Please RSVP with Frankie at 281.351.7222</div>
LOCATION:Pecos GrillingSH 249
UID:e.155.2489
SEQUENCE:3
DTSTAMP:20260421T130337Z
URL:https://business.tomballchamber.org/events/details/pre-party-for-membership-drive-05-07-2008-2489
END:VEVENT

END:VCALENDAR
