BEGIN:VCALENDAR
VERSION:2.0
PRODID:-//ChamberMaster//Event Calendar 2.0//EN
METHOD:PUBLISH
X-PUBLISHED-TTL:P3D
REFRESH-INTERVAL:P3D
CALSCALE:GREGORIAN
BEGIN:VEVENT
DTSTART:20080609T140000Z
DTEND:20080615T170000Z
X-MICROSOFT-CDO-ALLDAYEVENT:FALSE
SUMMARY:Power Lab Vacation Bible School
DESCRIPTION:Summer fun with nutty professors and looney lab techs all on a quest to discovering Jesus' miraculous power! Fun week of wacky works arts and crafts\, test tube treats\, Bible blasts\, cinema science and hyperspeed games! Ages pre-K to fifth grades!
X-ALT-DESC;FMTTYPE=text/html:Summer fun with nutty professors and looney lab techs all on a quest to discovering Jesus' miraculous power! Fun week of wacky works arts and crafts\, test tube treats\, Bible blasts\, cinema science and hyperspeed games! Ages pre-K to fifth grades!
LOCATION:Salem Campus
UID:e.155.2474
SEQUENCE:3
DTSTAMP:20260421T110739Z
URL:https://business.tomballchamber.org/events/details/power-lab-vacation-bible-school-06-09-2008-2474
END:VEVENT

END:VCALENDAR
