BEGIN:VCALENDAR
VERSION:2.0
PRODID:-//ChamberMaster//Event Calendar 2.0//EN
METHOD:PUBLISH
X-PUBLISHED-TTL:P3D
REFRESH-INTERVAL:P3D
CALSCALE:GREGORIAN
BEGIN:VEVENT
DTSTART:20080223T190000Z
DTEND:20080223T200000Z
X-MICROSOFT-CDO-ALLDAYEVENT:FALSE
SUMMARY:Postcard Collecting
DESCRIPTION:Lyle Reed will show you how to start\, build and store your collection. He will also present some of his own collections and will be recruiting members for a local postcard collector's club.
X-ALT-DESC;FMTTYPE=text/html:Lyle Reed will show you how to start\, build and store your collection. He will also present some of his own collections and will be recruiting members for a local postcard collector's club. \n
LOCATION:Tomball College and Community Library Meeting Room\, 30555 Tomball Parkway
UID:e.155.2415
SEQUENCE:3
DTSTAMP:20260421T182638Z
URL:https://business.tomballchamber.org/events/details/postcard-collecting-02-23-2008-2415
END:VEVENT

END:VCALENDAR
