BEGIN:VCALENDAR
VERSION:2.0
PRODID:-//ChamberMaster//Event Calendar 2.0//EN
METHOD:PUBLISH
X-PUBLISHED-TTL:P3D
REFRESH-INTERVAL:P3D
CALSCALE:GREGORIAN
BEGIN:VEVENT
DTSTART:20070518T000000Z
DTEND:20070518T013000Z
X-MICROSOFT-CDO-ALLDAYEVENT:FALSE
SUMMARY:Plants in Biblical Times
DESCRIPTION:Did you know that there are 125 plants mentioned in the Bible?  Master Gardener Susan Kooiman will talk about some of them in her botanical look at the ancient world.  Topics will include the flax plant\, acacia tree\, Cedars of Lebanon\, Rose of Sharon\, lily of the valley\, and others.
X-ALT-DESC;FMTTYPE=text/html:Did you know that there are 125 plants mentioned in the Bible?  Master Gardener Susan Kooiman will talk about some of them in her botanical look at the ancient world.  Topics will include the flax plant\, acacia tree\, Cedars of Lebanon\, Rose of Sharon\, lily of the valley\, and others.  
LOCATION:First floor Meeting Room of the Tomball College & Community Library
UID:e.155.2207
SEQUENCE:3
DTSTAMP:20260422T104504Z
URL:https://business.tomballchamber.org/events/details/plants-in-biblical-times-05-17-2007-2207
END:VEVENT

END:VCALENDAR
