BEGIN:VCALENDAR
VERSION:2.0
PRODID:-//ChamberMaster//Event Calendar 2.0//EN
METHOD:PUBLISH
X-PUBLISHED-TTL:P3D
REFRESH-INTERVAL:P3D
CALSCALE:GREGORIAN
BEGIN:VEVENT
DTSTART:20070505T160000Z
DTEND:20070505T190000Z
X-MICROSOFT-CDO-ALLDAYEVENT:FALSE
SUMMARY:Picnic in the Park - TISD/Tomball College
DESCRIPTION:Picnic in the Park\nHosted by TISD/Tomball College\nEnjoy a day of Food\, Family and Fun
X-ALT-DESC;FMTTYPE=text/html:Picnic in the Park<br />Hosted by TISD/Tomball College<br />Enjoy a day of Food\, Family and Fun
LOCATION:Samuel Matthews Park Ulrich Rd - Tomball
UID:e.155.1941
SEQUENCE:3
DTSTAMP:20260422T091901Z
URL:https://business.tomballchamber.org/events/details/picnic-in-the-park-tisd-tomball-college-05-05-2007-1941
END:VEVENT

END:VCALENDAR
