BEGIN:VCALENDAR
VERSION:2.0
PRODID:-//ChamberMaster//Event Calendar 2.0//EN
METHOD:PUBLISH
X-PUBLISHED-TTL:P3D
REFRESH-INTERVAL:P3D
CALSCALE:GREGORIAN
BEGIN:VEVENT
DTSTART:20230429T180000Z
DTEND:20230430T020000Z
X-MICROSOFT-CDO-ALLDAYEVENT:FALSE
SUMMARY:Peel For A Purpose Crawfish Festival
DESCRIPTION:3rd Annual Peel For A Purpose Crawfish Festival benefitting Boots For Troops! This event will feature crawfish vendors\, non cajun food\, moon walks\, bouncy houses\, and live music all day! Casey Donahew\, Josh Ward\, Gary Kyle\, Brian Sacco and Mandi Powell will grace the stage on a beautiful horse farm.
X-ALT-DESC;FMTTYPE=text/html:3rd Annual Peel For A Purpose Crawfish Festival benefitting Boots For Troops! This event will feature crawfish vendors\, non cajun food\, moon walks\, bouncy houses\, and live music all day! Casey Donahew\, Josh Ward\, Gary Kyle\, Brian Sacco and Mandi Powell will grace the stage on a beautiful horse farm.
LOCATION:Showsports Farm 32931 Wright Road Magnolia\, TX 77355
UID:e.155.37934
SEQUENCE:3
DTSTAMP:20260420T082941Z
URL:https://business.tomballchamber.org/events/details/peel-for-a-purpose-crawfish-festival-37934
END:VEVENT

END:VCALENDAR
