BEGIN:VCALENDAR
VERSION:2.0
PRODID:-//ChamberMaster//Event Calendar 2.0//EN
METHOD:PUBLISH
X-PUBLISHED-TTL:P3D
REFRESH-INTERVAL:P3D
CALSCALE:GREGORIAN
BEGIN:VEVENT
DTSTART:20230522T233000Z
DTEND:20230523T013000Z
X-MICROSOFT-CDO-ALLDAYEVENT:FALSE
SUMMARY:Our 7th annual Free Community Event with Elaine Simmons on Social Security
DESCRIPTION:THs is NOT a sales event.  It is informational only from a great speaker we book a year in advance.  Elaine tells you what you normally will not hear when applying for Social Security.  Are you signing up at the right time? Are you limiting your Options?  When should you start? How to maximize benefits? Spousal Benefits?  and so many more things you will not want to miss.  Don't wait until you are 65\, plan and strategize now. There is a time for an answer and question prior if you have a particular question she didn't cover.  Call and reserve your seat now\, it is worth your time.   281-370-0300 or info@coreiw.com
X-ALT-DESC;FMTTYPE=text/html:THs is NOT a sales event.&nbsp\; It is informational only from a great speaker we book a year in advance.&nbsp\; Elaine tells you what you normally will not hear when applying for Social Security.&nbsp\; Are you signing up at the right time? Are you limiting your Options?&nbsp\; When should you start? How to maximize benefits? Spousal Benefits?&nbsp\; and so many more things you will not want to miss.&nbsp\; Don&#39\;t wait until you are 65\, plan and strategize now. There is a time for an answer and question prior if you have a particular question she didn&#39\;t cover.&nbsp\; Call and reserve your seat now\, it is worth your time.&nbsp\; &nbsp\;281-370-0300 or info@coreiw.com
LOCATION:Lone Star College Tomball - Theatre Teaching Room E100 30555 Tomball Parkway - Tomball\, Texas 77377
UID:e.155.37958
SEQUENCE:3
DTSTAMP:20260420T070039Z
URL:https://business.tomballchamber.org/events/details/our-7th-annual-free-community-event-with-elaine-simmons-on-social-security-37958
END:VEVENT

END:VCALENDAR
